Workbook

Sheet Executive_Summary
A1: Executive Summary
A2: KPI CARDS | B2: Amounts
A3: =KPI_Calculations!A2 -> Total Revenue | B3: =KPI_Calculations!A3 -> 6.4121826e+08
A4: =KPI_Calculations!B2 -> GrossProfit | B4: =KPI_Calculations!B3 -> 3.8345773e+08
A5: =KPI_Calculations!C2 -> Gross Margin % | B5: =KPI_Calculations!C3 -> 0.59801436
A6: =KPI_Calculations!D2 -> Outstanding Receivables | B6: =KPI_Calculations!D3 -> 32761560
A7: =KPI_Calculations!E2 -> Outstanding Payables | B7: =KPI_Calculations!E3 -> 73907198
A8: =KPI_Calculations!F2 -> Burn Rate (per month) | B8: =KPI_Calculations!F3 -> 1191275
A9: =KPI_Calculations!G2 -> Runway Months | B9: =KPI_Calculations!G3 -> Out of Cash
A10: =KPI_Calculations!H2 -> DSO | B10: =KPI_Calculations!H3 -> 18.648829

Sheet Revenue_Analysis
A1: Revenue Analysis | P1: Key Findings • West region contributes highest revenue • SaaS Enterprise generates largest sales • Top 10 customers contribute 52% revenue • Revenue increased 18% YoY

Sheet Working_Capital
A1: Working Capital Analysis
A2: KPI CARDS | E2: AMOUNTS
A3: =KPI_Calculations!D2 -> Outstanding Receivables | E3: =KPI_Calculations!D3 -> 32761560
A4: =KPI_Calculations!E2 -> Outstanding Payables | E4: =KPI_Calculations!E3 -> 73907198
A5: =KPI_Calculations!H2 -> DSO | E5: =KPI_Calculations!H3 -> 18.648829

Sheet Budget_vs_Actual
A1: Budget Vs Actuals Analysis
A2: KPI Cards | B2: Amounts
A3: Total Budget | B3: =SUM(Helper_Tables!AC:AC) -> 102476980
A4: Total Actuals | B4: =SUM(Helper_Tables!AD:AD) -> 1.1334512e+08
A5: Total Variance | B5: =SUM(Helper_Tables!AE:AE) -> 10868143
A6: Variance % | B6: =IF(B3=0,0,B5/B3) -> 0.10605448
E32: Column1

Sheet Budget Variance Matrix
A1: Budget Variance % Matrix
A3: Average of Variance % | B3: Column Labels
A4: Row Labels | B4: Finance | C4: HR | D4: Marketing | E4: Product | F4: Sales | G4: Tech | H4: Grand Total
A5: 2024-01 | B5: 1.2444068 | C5: -0.43139336 | D5: -0.42591791 | E5: 2.0817108 | F5: 0.71871091 | G5: 0.62395285 | H5: 0.63524502
A6: 2024-02 | B6: -0.086886566 | C6: -0.47933489 | D6: -0.67559245 | E6: -0.04666587 | F6: 0.49491551 | G6: -0.55042243 | H6: -0.22399778
A7: 2024-03 | B7: 0.36965958 | C7: 2.5083632 | D7: -0.5595429 | E7: 0.039032247 | F7: 0.019798441 | G7: -0.40409314 | H7: 0.32886957
A8: 2024-04 | B8: -0.63006309 | C8: 0.27012626 | D8: -0.39625928 | E8: -0.37383385 | F8: 0.44388661 | G8: 0.77235995 | H8: 0.014369433
A9: 2024-05 | B9: -0.38454918 | C9: 1.2687546 | D9: 0.035295273 | E9: -0.095900137 | F9: 0.67283601 | G9: 0.66320563 | H9: 0.35994037
A10: 2024-06 | B10: 0.29140007 | C10: -0.39674447 | D10: 1.2528019 | E10: 0.31790965 | F10: 0.20915716 | G10: -0.50683802 | H10: 0.19461437
A11: 2024-07 | B11: 0.31019203 | C11: 0.08883391 | D11: 0.76286537 | E11: 0.58723079 | F11: -0.28167517 | G11: 0.15708139 | H11: 0.27075472
A12: 2024-08 | B12: 0.16045686 | C12: 0.24715339 | D12: -0.39111798 | E12: 0.3596391 | F12: -0.14875402 | G12: -0.51731307 | H12: -0.04832262
A13: 2024-09 | B13: -0.30896273 | C13: 1.3611396 | D13: 0.33533635 | E13: 2.7364179 | F13: 1.2847313 | G13: 1.0594855 | H13: 1.0780247
A14: 2024-10 | B14: 0.8651398 | C14: 0.15593901 | D14: 1.2900806 | E14: -0.36649193 | F14: 1.7977536 | G14: 0.56967017 | H14: 0.71868186
A15: 2024-11 | B15: -0.073501708 | C15: -0.60796992 | D15: -0.32633421 | E15: -0.40103687 | F15: 0.17519087 | G15: -0.019527878 | H15: -0.20886328
A16: 2024-12 | B16: -0.040072745 | C16: -0.50239154 | D16: 1.3647745 | E16: -0.44061662 | F16: -0.15493073 | G16: 0.02623375 | H16: 0.042166109
... A29: Grand Total | B29: 0.31926978 | C29: 0.25339641 | D29: 0.14977913 | E29: 0.21744748 | F29: 0.33141884 | G29: 0.34483357 | H29: 0.26935754

Sheet KPI_Calculations
A1: KPIs
A2: Total Revenue | B2: GrossProfit | C2: Gross Margin % | D2: Outstanding Receivables | E2: Outstanding Payables | F2: Burn Rate (per month) | G2: Runway Months | H2: DSO | I2: Variance % | J2: Top 10 Customers contribute
A3: =SUM(Sales_Transactions!F:F) -> 6.4121826e+08 | B3: =SUM(Sales_Transactions!F:F) -SUM(Sales_Transactions!H:H) -> 3.8345773e+08 | C3: =B3/A3 -> 0.59801436 | D3: =SUM(Receivables!E:E) -SUM(Receivables!F:F) -> 32761560 | E3: =SUMIFS(Payables!E:E, Payables!F:F, "NO") -> 73907198 | F3: =AVERAGE( Cash_Flow!C:C -Cash_Flow!B:B ) -> 1191275 | G3: =IF(Cash_Flow!D25<=0, "Out of Cash", ROUND(KPI_Calculations!D25/KPI_Calculations!F3,1)) -> Out of Cash | H3: =(D3/A3)*365 -> 18.648829 | I3: =(GETPIVOTDATA("Sum of Sum of Actual Expense",Helper_Tables!$AI$13)-GETPIVOTDATA("Sum of Sum of Budget",Helper_Tables!$AI$13))/GETPIVOTDATA("Sum of Sum of Budget",Helper_Tables!$AI$13) -> 0.10605448 | J3: =GETPIVOTDATA("Revenue",Helper_Tables!$K$10)/GETPIVOTDATA("Revenue",Helper_Tables!$A$2) -> 0.055622849
C4: =IF(C3<40%,"🔴 High Risk","🟢 Healthy") -> 🟢 Healthy | G4: =_xlfn.IFS( G3="Out Of Cash","🔴 High Risk", G3<6,"🔴 High Risk", TRUE,"🟢 Healthy" ) -> 🔴 High Risk | H4: =IF(H3>60,"🔴 High Risk","🟢 Healthy") -> 🟢 Healthy | I4: =IF(ABS(I3)>15%,"🔴 High Risk","🟢 Healthy") -> 🟢 Healthy | J4: =IF(J3>50%,"🔴 High Risk","🟢 Healthy") -> 🟢 Healthy

Sheet Helper_Tables
A1: Revenue By Months | E1: Cash Flow Trends | K1: Revenue By Regions | N1: Revenue By Products | R1: Budget | U1: Actual | X1: Variance Analysis | AA1: Budget VS Actuals Analysis
A2: Years (Date) | B2: Months (Date) | C2: Sum of Revenue | E2: Row Labels | F2: Sum of Cash Inflow | G2: Sum of Cash Outflow | H2: Sum of Cash Balance | I2: Net Cash Flow | K2: Region | L2: Sum of Revenue | N2: Products | O2: Sum of Revenue | R2: Month | S2: Department | T2: Sum of Budget | U2: Month | V2: Department | W2: Sum of Actual Expense | X2: Variance | Y2: Variance % | AA2: Month | AB2: Department | AC2: Sum of Budget | AD2: Sum of Actual Expense | AE2: Variance | AF2: Variance % | AI2: Budget VS Actuals For Departments
A3: <1.1.24 | B3: <1.1.24 | E3: 2024-01 | F3: 2448900 | G3: 2248316 | H3: 15200584 | I3: =F3-G3 -> 200584 | K3: East | L3: 1.6247646e+08 | N3: Analytics Addon | O3: 1.6470681e+08 | R3: 2024-01 | S3: Finance | T3: 469461 | U3: 2024-01 | V3: Finance | W3: 1053661.5 | X3: =W3-T3 -> 584200.46 | Y3: =X3/T3 -> 1.2444068 | AA3: 2024-01 | AB3: Finance | AC3: 469461 | AD3: 1053661.5 | AE3: 584200.46 | AF3: 1.2444068 | AG3: Row Labels | AH3: Variance % | AI3: Row Labels | AJ3: Sum of Sum of Budget | AK3: Sum of Sum of Actual Expense | AL3: Row Labels | AM3: Variance %
A4: 2024 | B4: Jan | C4: 29443675 | E4: 2024-02 | F4: 2359413 | G4: 3550688 | H4: 14009309 | I4: =F4-G4 -> -1191275 | K4: North | L4: 1.5550817e+08 | N4: SaaS Basic | O4: 1.5443229e+08 | R4: 2024-01 | S4: HR | T4: 843713 | U4: 2024-01 | V4: HR | W4: 479740.81 | X4: =W4-T4 -> -363972.19 | Y4: =X4/T4 -> -0.43139336 | AA4: 2024-01 | AB4: HR | AC4: 843713 | AD4: 479740.81 | AE4: -363972.19 | AF4: -0.43139336 | AG4: Finance | AH4: =(AK4-AJ4)/AJ4 -> 0.16257867 | AI4: Finance | AJ4: 17008474 | AK4: 19773689 | AL4: Finance | AM4: =(AK4-AJ4)/AJ4 -> 0.16257867
A5: 2024 | B5: Feb | C5: 27655426 | E5: 2024-03 | F5: 2840779 | G5: 5394140 | H5: 11455948 | I5: =F5-G5 -> -2553361 | K5: South | L5: 1.5990674e+08 | N5: SaaS Enterprise | O5: 1.6089468e+08 | R5: 2024-01 | S5: Marketing | T5: 1147513 | U5: 2024-01 | V5: Marketing | W5: 658766.66 | X5: =W5-T5 -> -488746.34 | Y5: =X5/T5 -> -0.42591791 | AA5: 2024-01 | AB5: Marketing | AC5: 1147513 | AD5: 658766.66 | AE5: -488746.34 | AF5: -0.42591791 | AG5: HR | AH5: =(AK5-AJ5)/AJ5 -> 0.050726989 | AI5: HR | AJ5: 16423615 | AK5: 17256736 | AL5: HR | AM5: =(AK5-AJ5)/AJ5 -> 0.050726989
A6: 2024 | B6: Mar | C6: 30478259 | E6: 2024-04 | F6: 4253873 | G6: 4293484 | H6: 11416337 | I6: =F6-G6 -> -39611 | K6: West | L6: 1.6332689e+08 | N6: SaaS Pro | O6: 1.6118449e+08 | R6: 2024-01 | S6: Product | T6: 336615 | U6: 2024-01 | V6: Product | W6: 1037350.1 | X6: =W6-T6 -> 700735.09 | Y6: =X6/T6 -> 2.0817108 | AA6: 2024-01 | AB6: Product | AC6: 336615 | AD6: 1037350.1 | AE6: 700735.09 | AF6: 2.0817108 | AG6: Marketing | AH6: =(AK6-AJ6)/AJ6 -> -0.0072795949 | AI6: Marketing | AJ6: 17476794 | AK6: 17349570 | AL6: Marketing | AM6: =(AK6-AJ6)/AJ6 -> -0.0072795949
A7: 2024 | B7: Apr | C7: 25437565 | E7: 2024-05 | F7: 1530967 | G7: 5205009 | H7: 7742295 | I7: =F7-G7 -> -3674042 | K7: (blank) | N7: (blank) | R7: 2024-01 | S7: Sales | T7: 564032 | U7: 2024-01 | V7: Sales | W7: 969407.95 | X7: =W7-T7 -> 405375.95 | Y7: =X7/T7 -> 0.71871091 | AA7: 2024-01 | AB7: Sales | AC7: 564032 | AD7: 969407.95 | AE7: 405375.95 | AF7: 0.71871091 | AG7: Product | AH7: =(AK7-AJ7)/AJ7 -> 0.085630464 | AI7: Product | AJ7: 17158782 | AK7: 18628096 | AL7: Product | AM7: =(AK7-AJ7)/AJ7 -> 0.085630464
A8: 2024 | B8: May | C8: 26440906 | E8: 2024-06 | F8: 2203187 | G8: 3098194 | H8: 6847288 | I8: =F8-G8 -> -895007 | K8: Grand Total | L8: 6.4121826e+08 | N8: Grand Total | O8: 6.4121826e+08 | R8: 2024-01 | S8: Tech | T8: 333337 | U8: 2024-01 | V8: Tech | W8: 541323.57 | X8: =W8-T8 -> 207986.57 | Y8: =X8/T8 -> 0.62395285 | AA8: 2024-01 | AB8: Tech | AC8: 333337 | AD8: 541323.57 | AE8: 207986.57 | AF8: 0.62395285 | AG8: Sales | AH8: =(AK8-AJ8)/AJ8 -> 0.17960184 | AI8: Sales | AJ8: 17434704 | AK8: 20566009 | AL8: Sales | AM8: =(AK8-AJ8)/AJ8 -> 0.17960184
A9: 2024 | B9: Jun | C9: 24237093 | E9: 2024-07 | F9: 3086097 | G9: 4947190 | H9: 4986195 | I9: =F9-G9 -> -1861093 | K9: Top 10 Customers | N9: Recivables Ageing Bucket | R9: 2024-02 | S9: Finance | T9: 1152088 | U9: 2024-02 | V9: Finance | W9: 1051987 | X9: =W9-T9 -> -100100.97 | Y9: =X9/T9 -> -0.086886566 | AA9: 2024-02 | AB9: Finance | AC9: 1152088 | AD9: 1051987 | AE9: -100100.97 | AF9: -0.086886566 | AG9: Tech | AH9: =(AK9-AJ9)/AJ9 -> 0.16474088 | AI9: Tech | AJ9: 16974611 | AK9: 19771023 | AL9: Tech | AM9: =(AK9-AJ9)/AJ9 -> 0.16474088
A10: 2024 | B10: Jul | C10: 30112405 | E10: 2024-08 | F10: 2775876 | G10: 2995898 | H10: 4766173 | I10: =F10-G10 -> -220022 | K10: Customer ID | L10: Sum of Revenue | N10: Ageing Bucket | O10: Sum of Amount OutStanding | R10: 2024-02 | S10: HR | T10: 963569 | U10: 2024-02 | V10: HR | W10: 501696.76 | X10: =W10-T10 -> -461872.24 | Y10: =X10/T10 -> -0.47933489 | AA10: 2024-02 | AB10: HR | AC10: 963569 | AD10: 501696.76 | AE10: -461872.24 | AF10: -0.47933489 | AI10: (blank)
A11: 2024 | B11: Aug | C11: 23741779 | E11: 2024-09 | F11: 2164181 | G11: 5138666 | H11: 1791688 | I11: =F11-G11 -> -2974485 | K11: C001 | L11: 3250510.7 | N11: 0-30 | O11: 858340.89 | R11: 2024-02 | S11: Marketing | T11: 992263 | U11: 2024-02 | V11: Marketing | W11: 321897.61 | X11: =W11-T11 -> -670365.39 | Y11: =X11/T11 -> -0.67559245 | AA11: 2024-02 | AB11: Marketing | AC11: 992263 | AD11: 321897.61 | AE11: -670365.39 | AF11: -0.67559245 | AI11: Grand Total | AJ11: 102476980 | AK11: 1.1334512e+08
A12: 2024 | B12: Sep | C12: 27121031 | E12: 2024-10 | F12: 4883517 | G12: 4308403 | H12: 2366802 | I12: =F12-G12 -> 575114 | K12: C002 | L12: 3460245.3 | N12: 31-60 | O12: 1073558 | R12: 2024-02 | S12: Product | T12: 1092471 | U12: 2024-02 | V12: Product | W12: 1041489.9 | X12: =W12-T12 -> -50981.11 | Y12: =X12/T12 -> -0.04666587 | AA12: 2024-02 | AB12: Product | AC12: 1092471 | AD12: 1041489.9 | AE12: -50981.11 | AF12: -0.04666587
A13: 2024 | B13: Oct | C13: 30065960 | E13: 2024-11 | F13: 2254319 | G13: 3054187 | H13: 1566934 | I13: =F13-G13 -> -799868 | K13: C014 | L13: 4452105.9 | N13: 61-90 | O13: 1290974.3 | R13: 2024-02 | S13: Sales | T13: 807135 | U13: 2024-02 | V13: Sales | W13: 1206598.6 | X13: =W13-T13 -> 399463.63 | Y13: =X13/T13 -> 0.49491551 | AA13: 2024-02 | AB13: Sales | AC13: 807135 | AD13: 1206598.6 | AE13: 399463.63 | AF13: 0.49491551 | AI13: Row Labels | AJ13: Sum of Sum of Budget | AK13: Sum of Sum of Actual Expense
A14: 2024 | B14: Nov | C14: 28539301 | E14: 2024-12 | F14: 2382923 | G14: 3022753 | H14: 927104 | I14: =F14-G14 -> -639830 | K14: C069 | L14: 3813939.8 | N14: 90+ | O14: 29538687 | R14: 2024-02 | S14: Tech | T14: 1017541 | U14: 2024-02 | V14: Tech | W14: 457463.61 | X14: =W14-T14 -> -560077.39 | Y14: =X14/T14 -> -0.55042243 | AA14: 2024-02 | AB14: Tech | AC14: 1017541 | AD14: 457463.61 | AE14: -560077.39 | AF14: -0.55042243 | AI14: 2024-01 | AJ14: 3694671 | AK14: 4740250.5
A15: 2024 | B15: Dec | C15: 24743145 | E15: 2025-01 | F15: 2804893 | G15: 3507294 | H15: 224703 | I15: =F15-G15 -> -702401 | K15: C086 | L15: 3475831.8 | N15: (blank) | R15: 2024-03 | S15: Finance | T15: 797830 | U15: 2024-03 | V15: Finance | W15: 1092755.5 | X15: =W15-T15 -> 294925.5 | Y15: =X15/T15 -> 0.36965958 | AA15: 2024-03 | AB15: Finance | AC15: 797830 | AD15: 1092755.5 | AE15: 294925.5 | AF15: 0.36965958 | AI15: 2024-02 | AJ15: 6025067 | AK15: 4581133.5
A16: 2025 | B16: Jan | C16: 24198985 | E16: 2025-02 | F16: 2558582 | G16: 4447525 | H16: -1664240 | I16: =F16-G16 -> -1888943 | K16: C097 | L16: 3406267 | N16: Grand Total | O16: 32761560 | R16: 2024-03 | S16: HR | T16: 316280 | U16: 2024-03 | V16: HR | W16: 1109625.1 | X16: =W16-T16 -> 793345.11 | Y16: =X16/T16 -> 2.5083632 | AA16: 2024-03 | AB16: HR | AC16: 316280 | AD16: 1109625.1 | AE16: 793345.11 | AF16: 2.5083632 | AI16: 2024-03 | AJ16: 4142639 | AK16: 4544984.2
A17: 2025 | B17: Feb | C17: 24620681 | E17: 2025-03 | F17: 3903028 | G17: 2686746 | H17: -447958 | I17: =F17-G17 -> 1216282 | K17: C119 | L17: 3461028.7 | N17: Department HR Cost | R17: 2024-03 | S17: Marketing | T17: 726478 | U17: 2024-03 | V17: Marketing | W17: 319982.39 | X17: =W17-T17 -> -406495.61 | Y17: =X17/T17 -> -0.5595429 | AA17: 2024-03 | AB17: Marketing | AC17: 726478 | AD17: 319982.39 | AE17: -406495.61 | AF17: -0.5595429 | AI17: 2024-04 | AJ17: 4347950 | AK17: 4009709.7
A18: 2025 | B18: Mar | C18: 27719545 | E18: 2025-04 | F18: 2709843 | G18: 2537217 | H18: -275332 | I18: =F18-G18 -> 172626 | K18: C146 | L18: 3569198.2 | N18: Row Labels | O18: Sum of Salary | P18: Sum of Bonus | R18: 2024-03 | S18: Product | T18: 912506 | U18: 2024-03 | V18: Product | W18: 948123.16 | X18: =W18-T18 -> 35617.16 | Y18: =X18/T18 -> 0.039032247 | AA18: 2024-03 | AB18: Product | AC18: 912506 | AD18: 948123.16 | AE18: 35617.16 | AF18: 0.039032247 | AI18: 2024-05 | AJ18: 4198388 | AK18: 5493691.1
A19: 2025 | B19: Apr | C19: 28424223 | E19: 2025-05 | F19: 3596305 | G19: 4852839 | H19: -1531866 | I19: =F19-G19 -> -1256534 | K19: C205 | L19: 3342708.9 | N19: Finance | O19: 1864887 | P19: 268044.02 | R19: 2024-03 | S19: Sales | T19: 581419 | U19: 2024-03 | V19: Sales | W19: 592930.19 | X19: =W19-T19 -> 11511.19 | Y19: =X19/T19 -> 0.019798441 | AA19: 2024-03 | AB19: Sales | AC19: 581419 | AD19: 592930.19 | AE19: 11511.19 | AF19: 0.019798441 | AI19: 2024-06 | AJ19: 4605703 | AK19: 5070624.6
A20: 2025 | B20: May | C20: 26809766 | E20: 2025-06 | F20: 4346806 | G20: 2572975 | H20: 241965 | I20: =F20-G20 -> 1773831 | K20: C236 | L20: 3434550.6 | N20: HR | O20: 2496083 | P20: 374348.5 | R20: 2024-03 | S20: Tech | T20: 808126 | U20: 2024-03 | V20: Tech | W20: 481567.83 | X20: =W20-T20 -> -326558.17 | Y20: =X20/T20 -> -0.40409314 | AA20: 2024-03 | AB20: Tech | AC20: 808126 | AD20: 481567.83 | AE20: -326558.17 | AF20: -0.40409314 | AI20: 2024-07 | AJ20: 4759033 | AK20: 5711107.2
A21: 2025 | B21: Jun | C21: 28313947 | E21: 2025-07 | F21: 1841658 | G21: 4627354 | H21: -2543731 | I21: =F21-G21 -> -2785696 | K21: Grand Total | L21: 35666387 | N21: Marketing | O21: 2636800 | P21: 337092.95 | R21: 2024-04 | S21: Finance | T21: 1082693 | U21: 2024-04 | V21: Finance | W21: 400528.1 | X21: =W21-T21 -> -682164.9 | Y21: =X21/T21 -> -0.63006309 | AA21: 2024-04 | AB21: Finance | AC21: 1082693 | AD21: 400528.1 | AE21: -682164.9 | AF21: -0.63006309 | AI21: 2024-08 | AJ21: 3922989 | AK21: 3458092
A22: 2025 | B22: Jul | C22: 25070289 | E22: 2025-08 | F22: 3573739 | G22: 3279337 | H22: -2249329 | I22: =F22-G22 -> 294402 | K22: Amount OutStanding | L22: (All) | N22: Product | O22: 2268739 | P22: 323016.04 | R22: 2024-04 | S22: HR | T22: 522563 | U22: 2024-04 | V22: HR | W22: 663720.99 | X22: =W22-T22 -> 141157.99 | Y22: =X22/T22 -> 0.27012626 | AA22: 2024-04 | AB22: HR | AC22: 522563 | AD22: 663720.99 | AE22: 141157.99 | AF22: 0.27012626 | AI22: 2024-09 | AJ22: 3528393 | AK22: 6298495.9
A23: 2025 | B23: Aug | C23: 26103751 | E23: 2025-09 | F23: 1657576 | G23: 5033702 | H23: -5625455 | I23: =F23-G23 -> -3376126 | K23: Top Overdue Customers | N23: Sales | O23: 1454510 | P23: 190568.49 | R23: 2024-04 | S23: Marketing | T23: 886759 | U23: 2024-04 | V23: Marketing | W23: 535372.52 | X23: =W23-T23 -> -351386.48 | Y23: =X23/T23 -> -0.39625928 | AA23: 2024-04 | AB23: Marketing | AC23: 886759 | AD23: 535372.52 | AE23: -351386.48 | AF23: -0.39625928 | AI23: 2024-10 | AJ23: 3483521 | AK23: 5318721.8
A24: 2025 | B24: Sep | C24: 24309960 | E24: 2025-10 | F24: 2891911 | G24: 5155181 | H24: -7888725 | I24: =F24-G24 -> -2263270 | K24: Customer ID | L24: Sum of Amount OutStanding | N24: Tech | O24: 2052007 | P24: 283334.54 | R24: 2024-04 | S24: Product | T24: 575659 | U24: 2024-04 | V24: Product | W24: 360458.18 | X24: =W24-T24 -> -215200.82 | Y24: =X24/T24 -> -0.37383385 | AA24: 2024-04 | AB24: Product | AC24: 575659 | AD24: 360458.18 | AE24: -215200.82 | AF24: -0.37383385 | AI24: 2024-11 | AJ24: 5176644 | AK24: 3921396.3
A25: 2025 | B25: Oct | C25: 24509879 | E25: 2025-11 | F25: 3818642 | G25: 5446709 | H25: -9516792 | I25: =F25-G25 -> -1628067 | K25: C017 | L25: 490066.57 | N25: (blank) | R25: 2024-04 | S25: Sales | T25: 668182 | U25: 2024-04 | V25: Sales | W25: 964779.04 | X25: =W25-T25 -> 296597.04 | Y25: =X25/T25 -> 0.44388661 | AA25: 2024-04 | AB25: Sales | AC25: 668182 | AD25: 964779.04 | AE25: 296597.04 | AF25: 0.44388661 | AI25: 2024-12 | AJ25: 5389826 | AK25: 4903325.8
A26: 2025 | B26: Nov | C26: 29512616 | E26: 2025-12 | F26: 4435027 | G26: 4810241 | H26: -9892006 | I26: =F26-G26 -> -375214 | K26: C021 | L26: 290691.27 | N26: Grand Total | O26: 12773026 | P26: 1776404.5 | R26: 2024-04 | S26: Tech | T26: 612094 | U26: 2024-04 | V26: Tech | W26: 1084850.9 | X26: =W26-T26 -> 472756.89 | Y26: =X26/T26 -> 0.77235995 | AA26: 2024-04 | AB26: Tech | AC26: 612094 | AD26: 1084850.9 | AE26: 472756.89 | AF26: 0.77235995 | AI26: 2025-01 | AJ26: 5369183 | AK26: 3565382.6
A27: 2025 | B27: Dec | C27: 23608077 | E27: (blank) | K27: C101 | L27: 311010.59 | R27: 2024-05 | S27: Finance | T27: 641347 | U27: 2024-05 | V27: Finance | W27: 394717.54 | X27: =W27-T27 -> -246629.46 | Y27: =X27/T27 -> -0.38454918 | AA27: 2024-05 | AB27: Finance | AC27: 641347 | AD27: 394717.54 | AE27: -246629.46 | AF27: -0.38454918 | AI27: 2025-02 | AJ27: 3038072 | AK27: 4714555.8
A28: Grand Total | C28: 6.4121826e+08 | E28: Grand Total | F28: 71322042 | G28: 96214048 | H28: 41907891 | K28: C194 | L28: 506013.52 | R28: 2024-05 | S28: HR | T28: 614170 | U28: 2024-05 | V28: HR | W28: 1393401 | X28: =W28-T28 -> 779231.04 | Y28: =X28/T28 -> 1.2687546 | AA28: 2024-05 | AB28: HR | AC28: 614170 | AD28: 1393401 | AE28: 779231.04 | AF28: 1.2687546 | AI28: 2025-03 | AJ28: 3830352 | AK28: 5365397.8
E29: Oustanding by Month | G29: =GETPIVOTDATA("Revenue",$K$10)/GETPIVOTDATA("Revenue",$A$2) -> 0.055622849 | K29: C198 | L29: 289869.94 | R29: 2024-05 | S29: Marketing | T29: 757147 | U29: 2024-05 | V29: Marketing | W29: 783870.71 | X29: =W29-T29 -> 26723.71 | Y29: =X29/T29 -> 0.035295273 | AA29: 2024-05 | AB29: Marketing | AC29: 757147 | AD29: 783870.71 | AE29: 26723.71 | AF29: 0.035295273 | AI29: 2025-04 | AJ29: 3506438 | AK29: 4416937.3
E30: Row Labels | F30: Sum of Amount OutStanding | K30: C218 | L30: 318494.61 | R30: 2024-05 | S30: Product | T30: 948461 | U30: 2024-05 | V30: Product | W30: 857503.46 | X30: =W30-T30 -> -90957.54 | Y30: =X30/T30 -> -0.095900137 | AA30: 2024-05 | AB30: Product | AC30: 948461 | AD30: 857503.46 | AE30: -90957.54 | AF30: -0.095900137 | AI30: 2025-05 | AJ30: 4589080 | AK30: 4407558.8
E31: 2024 | F31: 15652997 | K31: C232 | L31: 393757.14 | R31: 2024-05 | S31: Sales | T31: 662028 | U31: 2024-05 | V31: Sales | W31: 1107464.3 | X31: =W31-T31 -> 445436.28 | Y31: =X31/T31 -> 0.67283601 | AA31: 2024-05 | AB31: Sales | AC31: 662028 | AD31: 1107464.3 | AE31: 445436.28 | AF31: 0.67283601 | AI31: 2025-06 | AJ31: 4359558 | AK31: 4419134.4
E32: Jan | F32: 1363792.4 | K32: C250 | L32: 305685.47 | R32: 2024-05 | S32: Tech | T32: 575235 | U32: 2024-05 | V32: Tech | W32: 956734.09 | X32: =W32-T32 -> 381499.09 | Y32: =X32/T32 -> 0.66320563 | AA32: 2024-05 | AB32: Tech | AC32: 575235 | AD32: 956734.09 | AE32: 381499.09 | AF32: 0.66320563 | AI32: 2025-07 | AJ32: 4134840 | AK32: 3834615.5
E33: Feb | F33: 1370090 | K33: C272 | L33: 411111.82 | R33: 2024-06 | S33: Finance | T33: 822089 | U33: 2024-06 | V33: Finance | W33: 1061645.8 | X33: =W33-T33 -> 239556.79 | Y33: =X33/T33 -> 0.29140007 | AA33: 2024-06 | AB33: Finance | AC33: 822089 | AD33: 1061645.8 | AE33: 239556.79 | AF33: 0.29140007 | AI33: 2025-08 | AJ33: 3152731 | AK33: 5769311.5
E34: Mar | F34: 1490101.9 | K34: C297 | L34: 317985.76 | R34: 2024-06 | S34: HR | T34: 755499 | U34: 2024-06 | V34: HR | W34: 455758.95 | X34: =W34-T34 -> -299740.05 | Y34: =X34/T34 -> -0.39674447 | AA34: 2024-06 | AB34: HR | AC34: 755499 | AD34: 455758.95 | AE34: -299740.05 | AF34: -0.39674447 | AI34: 2025-09 | AJ34: 3818335 | AK34: 6293962.8
E35: Apr | F35: 1355486.6 | K35: Grand Total | L35: 3634686.7 | R35: 2024-06 | S35: Marketing | T35: 567599 | U35: 2024-06 | V35: Marketing | W35: 1278688.1 | X35: =W35-T35 -> 711089.08 | Y35: =X35/T35 -> 1.2528019 | AA35: 2024-06 | AB35: Marketing | AC35: 567599 | AD35: 1278688.1 | AE35: 711089.08 | AF35: 1.2528019 | AI35: 2025-10 | AJ35: 4932856 | AK35: 4589311.1
E36: May | F36: 1735166.9 | R36: 2024-06 | S36: Product | T36: 696600 | U36: 2024-06 | V36: Product | W36: 918055.86 | X36: =W36-T36 -> 221455.86 | Y36: =X36/T36 -> 0.31790965 | AA36: 2024-06 | AB36: Product | AC36: 696600 | AD36: 918055.86 | AE36: 221455.86 | AF36: 0.31790965 | AI36: 2025-11 | AJ36: 3977175 | AK36: 4892347.9
E37: Jun | F37: 888707.88 | R37: 2024-06 | S37: Sales | T37: 679585 | U37: 2024-06 | V37: Sales | W37: 821725.07 | X37: =W37-T37 -> 142140.07 | Y37: =X37/T37 -> 0.20915716 | AA37: 2024-06 | AB37: Sales | AC37: 679585 | AD37: 821725.07 | AE37: 142140.07 | AF37: 0.20915716 | AI37: 2025-12 | AJ37: 4493536 | AK37: 3025075.3
E38: Jul | F38: 1124241.1 | R38: 2024-06 | S38: Tech | T38: 1084331 | U38: 2024-06 | V38: Tech | W38: 534750.82 | X38: =W38-T38 -> -549580.18 | Y38: =X38/T38 -> -0.50683802 | AA38: 2024-06 | AB38: Tech | AC38: 1084331 | AD38: 534750.82 | AE38: -549580.18 | AF38: -0.50683802 | AI38: Grand Total | AJ38: 102476980 | AK38: 1.1334512e+08
E39: Aug | F39: 1175387.6 | R39: 2024-07 | S39: Finance | T39: 783009 | U39: 2024-07 | V39: Finance | W39: 1025892.2 | X39: =W39-T39 -> 242883.15 | Y39: =X39/T39 -> 0.31019203 | AA39: 2024-07 | AB39: Finance | AC39: 783009 | AD39: 1025892.2 | AE39: 242883.15 | AF39: 0.31019203
E40: Sep | F40: 1288274.1 | R40: 2024-07 | S40: HR | T40: 945810 | U40: 2024-07 | V40: HR | W40: 1029830 | X40: =W40-T40 -> 84020 | Y40: =X40/T40 -> 0.08883391 | AA40: 2024-07 | AB40: HR | AC40: 945810 | AD40: 1029830 | AE40: 84020 | AF40: 0.08883391
...

Sheet Sales_Transactions
A1: Invoice No | B1: Date | C1: Customer ID | D1: Product | E1: Region | F1: Revenue | G1: Discount % | H1: COGS
A2: INV00001 | B2: 45638 | C2: C115 | D2: Analytics Addon | E2: North | F2: 100796.3 | G2: 8.26 | H2: 51189.32
A3: INV00002 | B3: 45547 | C3: C133 | D3: SaaS Enterprise | E3: North | F3: 224421.29 | G3: 11.11 | H3: 63961.43
A4: INV00003 | B4: 45516 | C4: C092 | D4: Analytics Addon | E4: East | F4: 100770.6 | G4: 0.29 | H4: 53533.62
A5: INV00004 | B5: 45488 | C5: C044 | D5: SaaS Enterprise | E5: South | F5: 241218.08 | G5: 24.62 | H5: 120061.29
A6: INV00005 | B6: 45805 | C6: C010 | D6: SaaS Pro | E6: North | F6: 26981.19 | G6: 24.12 | H6: 11773.75
A7: INV00006 | B7: 45658 | C7: C219 | D7: Analytics Addon | E7: North | F7: 182467.93 | G7: 21.66 | H7: 55062.59
A8: INV00007 | B8: 45366 | C8: C275 | D8: Analytics Addon | E8: East | F8: 153218.25 | G8: 0.7 | H8: 66154.32
A9: INV00008 | B9: 45679 | C9: C205 | D9: Analytics Addon | E9: West | F9: 37495.86 | G9: 24.08 | H9: 15087.36
A10: INV00009 | B10: 45494 | C10: C200 | D10: SaaS Enterprise | E10: East | F10: 52534.44 | G10: 6.03 | H10: 27094.62
A11: INV00010 | B11: 45634 | C11: C064 | D11: SaaS Enterprise | E11: North | F11: 74878.24 | G11: 17.66 | H11: 22924.76
A12: INV00011 | B12: 45354 | C12: C120 | D12: SaaS Enterprise | E12: West | F12: 232726.42 | G12: 11.15 | H12: 88124.11
A13: INV00012 | B13: 45457 | C13: C106 | D13: SaaS Basic | E13: North | F13: 134107.1 | G13: 11.69 | H13: 36301.59
... A5001: INV05000 | B5001: 45326 | C5001: C149 | D5001: SaaS Pro | E5001: West | F5001: 221403.55 | G5001: 3.1 | H5001: 76691.07

Sheet Customers
A1: Customer ID | B1: Customer Name | C1: Industry | D1: City | E1: Customer Since
A2: C001 | B2: Customer 1 | C2: Retail | D2: Delhi | E2: 44225
A3: C002 | B3: Customer 2 | C3: Healthcare | D3: Indore | E3: 44670
A4: C003 | B4: Customer 3 | C4: Manufacturing | D4: Hyderabad | E4: 44510
A5: C004 | B5: Customer 4 | C5: Education | D5: Hyderabad | E5: 44441
A6: C005 | B6: Customer 5 | C6: Healthcare | D6: Pune | E6: 44349
A7: C006 | B7: Customer 6 | C7: Manufacturing | D7: Bangalore | E7: 44210
A8: C007 | B8: Customer 7 | C8: Retail | D8: Bangalore | E8: 45522
A9: C008 | B9: Customer 8 | C9: IT | D9: Hyderabad | E9: 44309
A10: C009 | B10: Customer 9 | C10: Education | D10: Indore | E10: 45688
A11: C010 | B11: Customer 10 | C11: IT | D11: Pune | E11: 44695
A12: C011 | B12: Customer 11 | C12: Education | D12: Pune | E12: 44346
A13: C012 | B13: Customer 12 | C13: Healthcare | D13: Delhi | E13: 44589
... A301: C300 | B301: Customer 300 | C301: IT | D301: Bangalore | E301: 45487

Sheet Receivables
A1: Invoice No | B1: Customer ID | C1: Invoice Date | D1: Due Date | E1: Amount | F1: Amount Received | G1: Days Outstanding | H1: Aging Bucket | I1: Amount OutStanding | J1: INV Month
A2: INV00536 | B2: C001 | C2: 45595 | D2: 45625 | E2: 143490.09 | F2: 55579.72 | G2: =DATE(2026, 2, 5)-D2 -> 433 | H2: =_xlfn.IFS( G2<=30,"0-30", G2<=60,"31-60", G2<=90,"61-90", TRUE,"90+" ) -> 90+ | I2: =E2-F2 -> 87910.37 | J2: =DATE(YEAR(C2),MONTH(C2),1) -> 45566
A3: INV01682 | B3: C001 | C3: 45774 | D3: 45804 | E3: 53486.12 | F3: 20306.49 | G3: =DATE(2026, 2, 5)-D3 -> 254 | H3: =_xlfn.IFS( G3<=30,"0-30", G3<=60,"31-60", G3<=90,"61-90", TRUE,"90+" ) -> 90+ | I3: =E3-F3 -> 33179.63 | J3: =DATE(YEAR(C3),MONTH(C3),1) -> 45748
A4: INV02959 | B4: C001 | C4: 45335 | D4: 45365 | E4: 25840.2 | F4: 9619.55 | G4: =DATE(2026, 2, 5)-D4 -> 693 | H4: =_xlfn.IFS( G4<=30,"0-30", G4<=60,"31-60", G4<=90,"61-90", TRUE,"90+" ) -> 90+ | I4: =E4-F4 -> 16220.65 | J4: =DATE(YEAR(C4),MONTH(C4),1) -> 45323
A5: INV02021 | B5: C001 | C5: 45943 | D5: 45973 | E5: 43796.29 | F5: 27652.32 | G5: =DATE(2026, 2, 5)-D5 -> 85 | H5: =_xlfn.IFS( G5<=30,"0-30", G5<=60,"31-60", G5<=90,"61-90", TRUE,"90+" ) -> 61-90 | I5: =E5-F5 -> 16143.97 | J5: =DATE(YEAR(C5),MONTH(C5),1) -> 45931
A6: INV00003 | B6: C001 | C6: 45394 | D6: 45424 | E6: 53591.4 | F6: 53591.4 | G6: =DATE(2026, 2, 5)-D6 -> 634 | H6: =_xlfn.IFS( G6<=30,"0-30", G6<=60,"31-60", G6<=90,"61-90", TRUE,"90+" ) -> 90+ | I6: =E6-F6 -> 0 | J6: =DATE(YEAR(C6),MONTH(C6),1) -> 45383
A7: INV00135 | B7: C001 | C7: 45485 | D7: 45515 | E7: 180910.55 | F7: 180910.55 | G7: =DATE(2026, 2, 5)-D7 -> 543 | H7: =_xlfn.IFS( G7<=30,"0-30", G7<=60,"31-60", G7<=90,"61-90", TRUE,"90+" ) -> 90+ | I7: =E7-F7 -> 0 | J7: =DATE(YEAR(C7),MONTH(C7),1) -> 45474
A8: INV00199 | B8: C001 | C8: 45538 | D8: 45568 | E8: 28242.75 | F8: 28242.75 | G8: =DATE(2026, 2, 5)-D8 -> 490 | H8: =_xlfn.IFS( G8<=30,"0-30", G8<=60,"31-60", G8<=90,"61-90", TRUE,"90+" ) -> 90+ | I8: =E8-F8 -> 0 | J8: =DATE(YEAR(C8),MONTH(C8),1) -> 45536
A9: INV00811 | B9: C001 | C9: 45652 | D9: 45682 | E9: 178579.81 | F9: 178579.81 | G9: =DATE(2026, 2, 5)-D9 -> 376 | H9: =_xlfn.IFS( G9<=30,"0-30", G9<=60,"31-60", G9<=90,"61-90", TRUE,"90+" ) -> 90+ | I9: =E9-F9 -> 0 | J9: =DATE(YEAR(C9),MONTH(C9),1) -> 45627
A10: INV01621 | B10: C001 | C10: 45333 | D10: 45363 | E10: 129229.31 | F10: 129229.31 | G10: =DATE(2026, 2, 5)-D10 -> 695 | H10: =_xlfn.IFS( G10<=30,"0-30", G10<=60,"31-60", G10<=90,"61-90", TRUE,"90+" ) -> 90+ | I10: =E10-F10 -> 0 | J10: =DATE(YEAR(C10),MONTH(C10),1) -> 45323
A11: INV02498 | B11: C002 | C11: 45585 | D11: 45615 | E11: 116783.06 | F11: 90409.96 | G11: =DATE(2026, 2, 5)-D11 -> 443 | H11: =_xlfn.IFS( G11<=30,"0-30", G11<=60,"31-60", G11<=90,"61-90", TRUE,"90+" ) -> 90+ | I11: =E11-F11 -> 26373.1 | J11: =DATE(YEAR(C11),MONTH(C11),1) -> 45566
A12: INV00079 | B12: C002 | C12: 46006 | D12: 46036 | E12: 83287 | F12: 83287 | G12: =DATE(2026, 2, 5)-D12 -> 22 | H12: =_xlfn.IFS( G12<=30,"0-30", G12<=60,"31-60", G12<=90,"61-90", TRUE,"90+" ) -> 0-30 | I12: =E12-F12 -> 0 | J12: =DATE(YEAR(C12),MONTH(C12),1) -> 45992
A13: INV01113 | B13: C002 | C13: 45989 | D13: 46019 | E13: 83308.84 | F13: 83308.84 | G13: =DATE(2026, 2, 5)-D13 -> 39 | H13: =_xlfn.IFS( G13<=30,"0-30", G13<=60,"31-60", G13<=90,"61-90", TRUE,"90+" ) -> 31-60 | I13: =E13-F13 -> 0 | J13: =DATE(YEAR(C13),MONTH(C13),1) -> 45962
... A3001: INV02604 | B3001: C300 | C3001: 45889 | D3001: 45919 | E3001: 32093.71 | F3001: 32093.71 | G3001: =DATE(2026, 2, 5)-D3001 -> 139 | H3001: =_xlfn.IFS( G3001<=30,"0-30", G3001<=60,"31-60", G3001<=90,"61-90", TRUE,"90+" ) -> 90+ | I3001: =E3001-F3001 -> 0 | J3001: =DATE(YEAR(C3001),MONTH(C3001),1) -> 45870

Sheet Payables
A1: Bill No | B1: Vendor | C1: Invoice Date | D1: Due Date | E1: Amount | F1: Paid
A2: B00001 | B2: Vendor 96 | C2: 45888 | D2: 45933 | E2: 56506.37 | F2: Yes
A3: B00002 | B3: Vendor 8 | C3: 45387 | D3: 45432 | E3: 112614.62 | F3: No
A4: B00003 | B4: Vendor 71 | C4: 45422 | D4: 45467 | E4: 14463.43 | F4: Yes
A5: B00004 | B5: Vendor 64 | C5: 45823 | D5: 45868 | E5: 91993.56 | F5: Yes
A6: B00005 | B6: Vendor 95 | C6: 45294 | D6: 45339 | E6: 51435.8 | F6: No
A7: B00006 | B7: Vendor 58 | C7: 45474 | D7: 45519 | E7: 79298.96 | F7: No
A8: B00007 | B8: Vendor 10 | C8: 45921 | D8: 45966 | E8: 16751.39 | F8: Yes
A9: B00008 | B9: Vendor 13 | C9: 45527 | D9: 45572 | E9: 127810.7 | F9: Yes
A10: B00009 | B10: Vendor 5 | C10: 45464 | D10: 45509 | E10: 47206.36 | F10: Yes
A11: B00010 | B11: Vendor 4 | C11: 45308 | D11: 45353 | E11: 115990.61 | F11: No
A12: B00011 | B12: Vendor 74 | C12: 45735 | D12: 45780 | E12: 127685.18 | F12: Yes
A13: B00012 | B13: Vendor 12 | C13: 45567 | D13: 45612 | E13: 22272.76 | F13: Yes
... A2001: B02000 | B2001: Vendor 24 | C2001: 45565 | D2001: 45610 | E2001: 115747.55 | F2001: No

Sheet Employee_Cost
A1: Employee ID | B1: Department | C1: Join Date | D1: Salary | E1: Bonus
A2: E001 | B2: Finance | C2: 44880 | D2: 61710 | E2: 13366.3
A3: E002 | B3: Tech | C3: 45733 | D3: 130997 | E3: 22315.1
A4: E003 | B4: Tech | C4: 44643 | D4: 147880 | E4: 20417.45
A5: E004 | B5: Finance | C5: 45441 | D5: 96274 | E5: 8828.16
A6: E005 | B6: HR | C6: 44880 | D6: 33176 | E6: 6974.68
A7: E006 | B7: Marketing | C7: 45642 | D7: 92653 | E7: 5412.03
A8: E007 | B8: HR | C8: 45211 | D8: 102495 | E8: 21052.1
A9: E008 | B9: Marketing | C9: 45622 | D9: 145237 | E9: 22402.91
A10: E009 | B10: Finance | C10: 44772 | D10: 97954 | E10: 13842.48
A11: E010 | B11: Marketing | C11: 44931 | D11: 68708 | E11: 11960.32
A12: E011 | B12: Tech | C12: 44767 | D12: 104448 | E12: 7927.09
A13: E012 | B13: Tech | C13: 45441 | D13: 103084 | E13: 15512.53
... A121: E120 | B121: Tech | C121: 45031 | D121: 42952 | E121: 7854.62

Sheet Budget
A1: Month | B1: Department | C1: Budget
A2: 2024-01 | B2: Sales | C2: 564032
A3: 2024-01 | B3: Marketing | C3: 1147513
A4: 2024-01 | B4: Tech | C4: 333337
A5: 2024-01 | B5: Product | C5: 336615
A6: 2024-01 | B6: Finance | C6: 469461
A7: 2024-01 | B7: HR | C7: 843713
A8: 2024-02 | B8: Sales | C8: 807135
A9: 2024-02 | B9: Marketing | C9: 992263
A10: 2024-02 | B10: Tech | C10: 1017541
A11: 2024-02 | B11: Product | C11: 1092471
A12: 2024-02 | B12: Finance | C12: 1152088
A13: 2024-02 | B13: HR | C13: 963569
... A145: 2025-12 | B145: HR | C145: 891099

Sheet Actual_Expenses
A1: Month | B1: Department | C1: Actual Expense
A2: 2024-01 | B2: Sales | C2: 969407.95
A3: 2024-01 | B3: Marketing | C3: 658766.66
A4: 2024-01 | B4: Tech | C4: 541323.57
A5: 2024-01 | B5: Product | C5: 1037350.1
A6: 2024-01 | B6: Finance | C6: 1053661.5
A7: 2024-01 | B7: HR | C7: 479740.81
A8: 2024-02 | B8: Sales | C8: 1206598.6
A9: 2024-02 | B9: Marketing | C9: 321897.61
A10: 2024-02 | B10: Tech | C10: 457463.61
A11: 2024-02 | B11: Product | C11: 1041489.9
A12: 2024-02 | B12: Finance | C12: 1051987
A13: 2024-02 | B13: HR | C13: 501696.76
... A145: 2025-12 | B145: HR | C145: 469423.65

Sheet Cash_Flow
A1: Month | B1: Cash Inflow | C1: Cash Outflow | D1: Cash Balance
A2: 2024-01 | B2: 2448900 | C2: 2248316 | D2: 15200584
A3: 2024-02 | B3: 2359413 | C3: 3550688 | D3: 14009309
A4: 2024-03 | B4: 2840779 | C4: 5394140 | D4: 11455948
A5: 2024-04 | B5: 4253873 | C5: 4293484 | D5: 11416337
A6: 2024-05 | B6: 1530967 | C6: 5205009 | D6: 7742295
A7: 2024-06 | B7: 2203187 | C7: 3098194 | D7: 6847288
A8: 2024-07 | B8: 3086097 | C8: 4947190 | D8: 4986195
A9: 2024-08 | B9: 2775876 | C9: 2995898 | D9: 4766173
A10: 2024-09 | B10: 2164181 | C10: 5138666 | D10: 1791688
A11: 2024-10 | B11: 4883517 | C11: 4308403 | D11: 2366802
A12: 2024-11 | B12: 2254319 | C12: 3054187 | D12: 1566934
A13: 2024-12 | B13: 2382923 | C13: 3022753 | D13: 927104
... A25: 2025-12 | B25: 4435027 | C25: 4810241 | D25: -9892006
